BEGIN:VCALENDAR
VERSION:2.0
PRODID:-//Mei-Be WHATever - ECPv6.15.11//NONSGML v1.0//EN
CALSCALE:GREGORIAN
METHOD:PUBLISH
X-WR-CALNAME:Mei-Be WHATever
X-ORIGINAL-URL:https://www.meibewhatever.com
X-WR-CALDESC:Events for Mei-Be WHATever
REFRESH-INTERVAL;VALUE=DURATION:PT1H
X-Robots-Tag:noindex
X-PUBLISHED-TTL:PT1H
BEGIN:VTIMEZONE
TZID:America/New_York
BEGIN:DAYLIGHT
TZOFFSETFROM:-0500
TZOFFSETTO:-0400
TZNAME:EDT
DTSTART:20160313T070000
END:DAYLIGHT
BEGIN:STANDARD
TZOFFSETFROM:-0400
TZOFFSETTO:-0500
TZNAME:EST
DTSTART:20161106T060000
END:STANDARD
BEGIN:DAYLIGHT
TZOFFSETFROM:-0500
TZOFFSETTO:-0400
TZNAME:EDT
DTSTART:20170312T070000
END:DAYLIGHT
BEGIN:STANDARD
TZOFFSETFROM:-0400
TZOFFSETTO:-0500
TZNAME:EST
DTSTART:20171105T060000
END:STANDARD
BEGIN:DAYLIGHT
TZOFFSETFROM:-0500
TZOFFSETTO:-0400
TZNAME:EDT
DTSTART:20180311T070000
END:DAYLIGHT
BEGIN:STANDARD
TZOFFSETFROM:-0400
TZOFFSETTO:-0500
TZNAME:EST
DTSTART:20181104T060000
END:STANDARD
END:VTIMEZONE
BEGIN:VEVENT
DTSTART;TZID=America/New_York:20171014T140000
DTEND;TZID=America/New_York:20171022T153000
DTSTAMP:20260422T182759
CREATED:20170920T190416Z
LAST-MODIFIED:20170920T190750Z
UID:443-1507989600-1508686200@www.meibewhatever.com
SUMMARY:Sit\, Eat and Chew 五味杂陈
DESCRIPTION:Sit\, Eat and Chew 五味杂陈\n  \nA guided immersive dance through NYC’s Chinatown uncovers stories in five secret sites\n  \nWhen:  Oct 14\, 15 & 21\, 22\, 2017  Saturday & Sunday \n@ 2pm\, 2:45pm\, 3:30pm  (max 20 audience each tour) \n  \nTickets: (All tickets included admission to Museum of Chinese in America) \n$25 General Admission \n$15 Students/Seniors/MOCA member \n$10 Chinatown residents \n  \n  \n  \nSit\, Eat and Chew 五味杂陈is made possible in part with The MAP Fund\, supported by the Doris Duke Charitable Foundation and the Andrew W. Mellon Foundation and public funds from LMCC Creative Engagement\, supported by the New York City Department of Cultural Affairs in partnership with the City Council and the New York State Council on the Arts with the support of Governor Andre Cuomo and administered by Lower Manhattan Cultural Council. \n  \nFeaturing: Yahui Lu\, Guang Lei\, Summer Gan\, Ayaka Kamei\, Dita Karang\,  Mei-Yin Ng and community dancer from the Lin Sing Manhattan Music and Dance Association Inc and Chinese-American Planning Council\, Inc.’s Chinatown Senior Citizen Center. Music/soundscapes by Justin Simon
URL:https://www.meibewhatever.com/event/sit-eat-and-chew-%e4%ba%94%e5%91%b3%e6%9d%82%e9%99%88/
END:VEVENT
END:VCALENDAR